BEGIN:VCALENDAR
VERSION:2.0
PRODID:-//Tukios.com/
BEGIN:VEVENT
UID:d86ff762-9be1-427e-b7b5-ab5d94b85153@www.mcpeekhoekstra.com
DTSTAMP:20260420T194614Z
DTSTART:20260605T150000Z
DTEND:20260605T160000Z
SUMMARY:Interment
DESCRIPTION:
URL:https://www.mcpeekhoekstra.com/obituaries/beverly-davis
LOCATION:Union Cemetery 3349 Olentangy River Road  Columbus OH 43202
GEO:40.0277497;-83.0289845
END:VEVENT
END:VCALENDAR