BEGIN:VCALENDAR
VERSION:2.0
PRODID:-//Tukios.com/
BEGIN:VEVENT
UID:aeeff511-581f-484c-8034-b17b2e4eb358@www.mcpeekhoekstra.com
DTSTAMP:20260420T194428Z
DTSTART:20260606T180000Z
DTEND:20260606T190000Z
SUMMARY:Celebration of Life
DESCRIPTION:
URL:https://www.mcpeekhoekstra.com/obituaries/beverly-davis
LOCATION:Northside Fellowship Church 6841 Freeman Road  Westerville OH 
	43082
GEO:40.1715429;-82.9137442
END:VEVENT
END:VCALENDAR